BEGIN:VCALENDAR
VERSION:2.0
PRODID:-//Las Cruces Public Schools Foundation - ECPv6.5.2//NONSGML v1.0//EN
CALSCALE:GREGORIAN
METHOD:PUBLISH
X-WR-CALNAME:Las Cruces Public Schools Foundation
X-ORIGINAL-URL:http://lcpsf.org
X-WR-CALDESC:Events for Las Cruces Public Schools Foundation
REFRESH-INTERVAL;VALUE=DURATION:PT1H
X-Robots-Tag:noindex
X-PUBLISHED-TTL:PT1H
BEGIN:VTIMEZONE
TZID:America/Denver
BEGIN:DAYLIGHT
TZOFFSETFROM:-0700
TZOFFSETTO:-0600
TZNAME:MDT
DTSTART:20220313T090000
END:DAYLIGHT
BEGIN:STANDARD
TZOFFSETFROM:-0600
TZOFFSETTO:-0700
TZNAME:MST
DTSTART:20221106T080000
END:STANDARD
END:VTIMEZONE
BEGIN:VEVENT
DTSTART;TZID=America/Denver:20220308T183000
DTEND;TZID=America/Denver:20220308T200000
DTSTAMP:20260424T235052
CREATED:20220225T192002Z
LAST-MODIFIED:20220225T192722Z
UID:397-1646764200-1646769600@lcpsf.org
SUMMARY:Trivia Night 3/8/22
DESCRIPTION:Register your team of 4 for $55! \nText TriviaMarch to 44321 \nAll proceeds support $100 Supply Mini-Grants for LCPS teachers!
URL:http://lcpsf.org/event/trivia-night/
LOCATION:The Game II – Sports Grill\, 4131 Northrise Dr\, Las Cruces\, NM\, 88011\, United States
END:VEVENT
END:VCALENDAR